BEGIN:VCALENDAR
VERSION:2.0
BEGIN:VEVENT
CATEGORIES:Category,Art Gallery,Category,Community Events,Category,Student Events,Location,Henderson Fine Arts Center Gallery,featured,Yes
DESCRIPTION:The SJC Encore students are ready to transform the Henderson Fine Art Gallery through innovations in light and color again! This exhibit aims to convey the versatility of glass as an artistic medium by showcasing not only traditional windows but less conventional objects and subject matter formed from stained glass, including lamps, boxes, and yard art, among others. Add a unique piece to display in your home or be inspired to take a stained glass class through SJC and create your masterpiece! Opening Reception Friday, June 7, 2024 4 - 6 p.m. The Gallery is open during the reception. Gallery Hours The Henderson Fine Arts Center Art Gallery is open Monday through Friday, from 10 a.m. to 5 p.m. and during most events in the Henderson Performance Hall. Contact For further information about this exhibit or other Gallery events, contact the&nbsp;Art Gallery&nbsp;at 505-566-3464. Download Event to Calendar
DTSTAMP:20260423T091758
DTSTART:20240607T100000
DTEND:20240628T170000
LOCATION:Henderson Fine Arts Center Gallery
SUMMARY;LANGUAGE=en-us:Stained Glass Renaissance
UID:eaa25276522887b662a4c859c289aa77@www.sanjuancollege.edu
END:VEVENT
END:VCALENDAR

