BEGIN:VCALENDAR
VERSION:2.0
BEGIN:VEVENT
CATEGORIES:Category,Student Events,Location,Student Resource Center Room 1612 - Student Center
DESCRIPTION:Attend New Student Orientation In-Person! New Student Orientation is designed to introduce you to the SJC campus. It provides an overview of the many types of academic support and campus life activities available to you.&nbsp; Date: August 16, 2024 Time: 1:00pm-3:00pm Location: Student Resource Center Room 1612 - Student Center Contact the Student Resource Center to BOOK your attendance at (505) 566-3378 or orientation@sanjuancolleg.edu.&nbsp; A Campus Tour will be offered! Additional Questions? Contact the Student Resource Center (505) 566-3378 or achievement@sanjuancollege.edu.&nbsp;
DTSTAMP:20260423T103816
DTSTART:20240816T130000
DTEND:20240816T150000
LOCATION:Student Resource Center Room 1612 - Student Center
SUMMARY;LANGUAGE=en-us:In-Person New Student Orientation
UID:549a0566af59006514edb2275fdc0500@www.sanjuancollege.edu
END:VEVENT
END:VCALENDAR

