BEGIN:VCALENDAR
VERSION:2.0
BEGIN:VEVENT
CATEGORIES:Category,Student Events,Location,Student Resource Center Room 1612 - Student Center
DESCRIPTION:Attend New Student Orientation In-Person! New Student Orientation is designed to introduce you to the SJC campus. It provides an overview of the many types of academic support and campus life activities available to you.&nbsp; Date: August 22, 2024 Time: 5:30pm-7:30pm Location: Student Resource Center Room 1612 - Student Center Contact the Student Resource Center to BOOK your attendance at (505) 566-3378 or orientation@sanjuancolleg.edu.&nbsp; A Campus Tour will be offered! Additional Questions? Contact the Student Resource Center (505) 566-3378 or achievement@sanjuancollege.edu.&nbsp;
DTSTAMP:20260423T103944
DTSTART:20240822T173000
DTEND:20240822T193000
LOCATION:Student Resource Center Room 1612 - Student Center
SUMMARY;LANGUAGE=en-us:In-Person New Student Orientation
UID:4f7e46191ea68748bc7cc68e37d2c6e7@www.sanjuancollege.edu
END:VEVENT
END:VCALENDAR

