BEGIN:VCALENDAR
VERSION:2.0
BEGIN:VEVENT
CATEGORIES:Category,Community Events,Category,Employee Events,Category,Student Events,Location,San Juan College 4601 College Blvd. Near the corner of Sunrise Parkway & Education Drive,featured,Yes
DESCRIPTION:Spooktacular Celebration San Juan County voters made this possible! The $7 million bond approved in November 2022 fueled major campus upgrades, including $5.5 million to relocate and renovate SJC&rsquo;s Physical Plant, the backbone of campus maintenance, operations, and safety. In 2023, the State of New Mexico added $101,000 to remove the old facility, paving the way for future campus growth. The new Physical Plant blends renovation, expansion, and new construction to create a modern, efficient home for our facilities team. The redesigned site improves safety, accessibility, and traffic flow while bringing Maintenance and Shipping &amp; Receiving together under one roof. Celebrate This Wickedly Wonderful Milestone With Us!  Tour our new Facility Enjoy refreshments &amp; Giveaways Show off&nbsp;your spookiest or BOO-tiful costumes.  Date October 31, 2025 Time 2:00 p.m. - 4:00 p.m. Location San Juan College | Near the Corner of Sunrise Parkway &amp; Education Drive
DTSTAMP:20260423T092935
DTSTART:20251031T140000
DTEND:20251031T160000
LOCATION:San Juan College 4601 College Blvd. Near the corner of Sunrise Parkway &amp; Education Drive
SUMMARY;LANGUAGE=en-us:Spooktacular Physical Plant Ribbon Cutting at San Juan College
UID:575f1f208bfc0a34ea625525ff569d7c@www.sanjuancollege.edu
END:VEVENT
END:VCALENDAR

