BEGIN:VCALENDAR
VERSION:2.0
BEGIN:VEVENT
CATEGORIES:Category,Dual Credit Info Sessions,Category,Student Events,Location,Zia Conference Center
DESCRIPTION:Calling all Homeschool Educators! Learn about College and Career Pathways and Dual Credit Classes! Fast Facts - Top Reasons to Take Dual Credit Classes  Save Time and Money! - Earn College Credit, tuition-free, while in High School Explore Career Possibilities  Date July 24, 2025 Time 7:00 p.m. Location Zia Conference Center For more information, contact the Dual Credit program at (505) 566-3891.
DTSTAMP:20260423T062254
DTSTART:20250724T190000
DTEND:20250724T210000
LOCATION:Zia Conference Center
SUMMARY;LANGUAGE=en-us:Dual Credit Information Session for Homeschool Educators
UID:dde09fa8a9695609ff9c7d2ac90049b3@www.sanjuancollege.edu
END:VEVENT
END:VCALENDAR

