BEGIN:VCALENDAR
VERSION:2.0
BEGIN:VEVENT
CATEGORIES:Category,Community Events,Category,Student Events,Location,Connie Gotsch Theatre,featured,Yes
DESCRIPTION:Calling for Submissions Whether you already speak Navajo, or are just beginning to learn, and whether you have been making films for years, or are picking up a camera for the first time, we want you to join us for an evening celebrating the Navajo language. Submit a short video in the Navajo language by June 1, 2024 for a chance to win a prize.&nbsp; Adult Prizes:  1st Place-$300 2nd Place-$200 3rd Place-$100  Youth Prizes:  1st Place-$150 2nd Place-$100 3rd Place-$50  Submit your video today! For more information visit the Navajo Film Festival. Join Us - A Celebration of Our Language in Film Whether you already speak Navajo, or are just beginning to learn, and whether you have been making films for years, or are picking up a camera for the first time, we want you to join us for an evening celebrating the Navajo language. FREE Event! Date June 15, 2024 Time 1:00 p.m. - 5:00 p.m. Location Connie Gotsch Theatre &nbsp;
DTSTAMP:20260423T062627
DTSTART:20240615T130000
DTEND:20240615T170000
LOCATION:Connie Gotsch Theatre
SUMMARY;LANGUAGE=en-us:Navajo Film Festival
UID:d59668bdade04fedcd5b258faf993c53@www.sanjuancollege.edu
END:VEVENT
END:VCALENDAR

