BEGIN:VCALENDAR
VERSION:2.0
BEGIN:VEVENT
CATEGORIES:Category,Community Events,Category,Native American Center,Category,Student Events,Location,Henderson Fine Arts Center Room 9012,featured,Yes
DESCRIPTION:Traditional vs. Western Medicine Lunch Workshop The workshop will be conducted by Navajo health professional, Chris Begay. Lunch will be provided on a first-come, first-served basis. Free Event! Date February 4, 2025 Time 11:30 a.m. - 1:00 p.m. Location Henderson Fine Arts Center Room 9012 For additional information, contact the Native American Center or (505)566-3321
DTSTAMP:20260423T093938
DTSTART:20250204T113000
DTEND:20250204T130000
LOCATION:Henderson Fine Arts Center Room 9012
SUMMARY;LANGUAGE=en-us:Native Health &amp; Wellness
UID:718774f7c3a74e6f7342802373aab5af@www.sanjuancollege.edu
END:VEVENT
END:VCALENDAR

