BEGIN:VCALENDAR
VERSION:2.0
BEGIN:VEVENT
CATEGORIES:Category,Community Events,Category,Native American Center,Category,Student Events,Location,Student Suns Lounge,featured,Yes
DESCRIPTION:Join the Artists Artist Elmer C. Yazzie will showcase his work at IAIA and demonstrate some of his techniques including how he makes his brushes from yucca plants.&nbsp; Date June 20, 2024 Time 11:30 a.m. - 1:30 p.m. Location Student Suns Lounge
DTSTAMP:20260423T062552
DTSTART:20240620T113000
DTEND:20240620T133000
LOCATION:Student Suns Lounge
SUMMARY;LANGUAGE=en-us:Native Veteran Art Voices of the 4Corners
UID:60773dcc65e2d248aaf919789c32b752@www.sanjuancollege.edu
END:VEVENT
END:VCALENDAR

