BEGIN:VCALENDAR
VERSION:2.0
BEGIN:VEVENT
CATEGORIES:Category,Student Events,Location,Connie Gotsch Theater,featured,Yes
DESCRIPTION:CAB Presents Shrek the Movie&nbsp; Come enjoy a free viewing of Shrek and compete for prizes in a themed game of BINGO! Free admissions Date March 27, 2026 Time 6:00 p.m. Location Connie Gotsch Theater
DTSTAMP:20260421T060542
DTSTART:20260327T180000
DTEND:20260327T200000
LOCATION:Connie Gotsch Theater
SUMMARY;LANGUAGE=en-us:Movie Night &amp; BINGO!
UID:8bb0120113a8e57fcd3d75332ff880d1@www.sanjuancollege.edu
END:VEVENT
END:VCALENDAR

