BEGIN:VCALENDAR
VERSION:2.0
BEGIN:VEVENT
CATEGORIES:Category,Food for Thought,Category,Student Events,Location,Sun's Lounge,featured,Yes
DESCRIPTION:Thanksgiving Holiday Food distribution intends to help students and their family&rsquo;s facing hardship have more enjoyable holiday experiences without the stress of worrying about a meal. Date November 19, 2025 Time 2:00 p.m. - 4:00 p.m. Location Sun's Lounge
DTSTAMP:20260423T092827
DTSTART:20251119T140000
DTEND:20251119T160000
LOCATION:Sun's Lounge
SUMMARY;LANGUAGE=en-us:Food for Thought - Thanksgiving Holiday Food Box
UID:c9a76063a1cd57b8be9079db0be4f0d7@www.sanjuancollege.edu
END:VEVENT
END:VCALENDAR

