BEGIN:VCALENDAR
VERSION:2.0
BEGIN:VEVENT
CATEGORIES:Category,Student Events,Location,West Center,featured,Yes
DESCRIPTION:Grab and Go! Come by for a free sandwich, chips, and fresh fruit!&nbsp; Date October 16, 2024 Time 12:00 p.m. - 1:30 p.m. Location West Center
DTSTAMP:20260423T092152
DTSTART:20241016T120000
DTEND:20241016T133000
LOCATION:West Center
SUMMARY;LANGUAGE=en-us:Grab and Go Sandwiches
UID:7580b4756806e6d75e69488e7b696632@www.sanjuancollege.edu
END:VEVENT
END:VCALENDAR

