BEGIN:VCALENDAR
VERSION:2.0
BEGIN:VEVENT
CATEGORIES:Category,Student Events,Location,Outside Smart Lab 1600L
DESCRIPTION:Cucumbers, more than a Big Dill! Food of the Month presented by SJC Cooks. Explore various recipes, taste a few dishes, and grab some cucumbers to take home. Date June 26, 2024 Time 11:00 a.m. - 1:00 p.m. Location Outside Smart Lab 1600L
DTSTAMP:20260423T062239
DTSTART:20240626T110000
DTEND:20240626T130000
LOCATION:Outside Smart Lab 1600L
SUMMARY;LANGUAGE=en-us:Cucumbers
UID:42e1c9f8c8d6de3dc1a1cbe621a87130@www.sanjuancollege.edu
END:VEVENT
END:VCALENDAR

