BEGIN:VCALENDAR
VERSION:2.0
BEGIN:VEVENT
CATEGORIES:Category,Student Events,Location,Student Achievement Center,featured,Yes
DESCRIPTION:SJC Housing Students Need Your Help!!&nbsp; We are requesting donations for:  Sets of towels and washcloths Sets of Twin XL bed sheets Bed Pillows  Drop off Location Student Achievement Center Room 1604 For more information call 505-566-3453 or achievement@sanjuancolleg.edu&nbsp;
DTSTAMP:20260423T062935
DTSTART:20240603T080000
DTEND:20240726T170000
LOCATION:Student Achievement Center
SUMMARY;LANGUAGE=en-us:Linen and Towel Drive
UID:326464f805cbc3717fe7c5b40f438b10@www.sanjuancollege.edu
END:VEVENT
END:VCALENDAR

