BEGIN:VCALENDAR
VERSION:2.0
BEGIN:VEVENT
CATEGORIES:Category,Community Events,Category,Fine and Performing Arts,Category,Music Performances,Category,Student Events,Location,Outside at the SJC Graduation Plaza,featured,Yes
DESCRIPTION:Enjoy these Summer Sounds Bring a chair, blanket, food, drinks, and whatever appeals to you. The program selections will include:  Hurrah Storm Galop by Claudio Grafulla Jesu, Joy Of Man's Desiring by Johann Sebastian Bach Little English Suite by Clare Grundman Prelude and Fugue by Johann Sebastian Bach Rippling Watercolors by Brian Balmages Summer's End by William Rhodes Four short Masterworks for Woodwind Choir  by William Pelz  Date: July 27, 2024 Time: 7:00pm-9:00pm Location: Outside at the SJC Graduation Plaza This is a FREE Event!
DTSTAMP:20260423T092055
DTSTART:20240727T190000
DTEND:20240727T210000
LOCATION:Outside at the SJC Graduation Plaza
SUMMARY;LANGUAGE=en-us:San Juan College Summer Band
UID:a24e660bb6ded016dc4446ab25e7c9d4@www.sanjuancollege.edu
END:VEVENT
END:VCALENDAR

