BEGIN:VCALENDAR
VERSION:2.0
BEGIN:VEVENT
CATEGORIES:Category,Community Events,Category,Student Events,Location,Connie Gotsch Theatre Courtyard
DESCRIPTION:Need Help with Your FAFSA? Computers will be available for students/families to fill out the FAFSA Form. Students can register to win an IPad, and can also spin a prize wheel for other giveaways. FREE pizza and drinks at noon! Date: July 13, 2024 Time: 10:00am-2:00pm Location: Connie Gotsch Theatre Courtyard
DTSTAMP:20260423T061728
DTSTART:20240713T100000
DTEND:20240713T140000
LOCATION:Connie Gotsch Theatre Courtyard
SUMMARY;LANGUAGE=en-us:Mega FAFSA Event
UID:a484ce00b402d580fb002b28dbb7f6bc@www.sanjuancollege.edu
END:VEVENT
END:VCALENDAR

