BEGIN:VCALENDAR
VERSION:2.0
BEGIN:VEVENT
CATEGORIES:Category,Art Gallery,Category,Community Events,Category,Fine and Performing Arts,Category,Student Events,Location,Henderson Fine Arts Center Gallery,featured,Yes
DESCRIPTION:This retrospective exhibit of Navajo artist Ed Singer will showcase paintings, pastels, and drawings spanning his long career, from the 1970s to the present. Singer&rsquo;s blend of Old Master techniques with Native driven subjects and narratives challenges stereotypes in Southwestern art and Hollywood, both in terms of landscape and portraiture. Singer uses art to proudly own his identity and to illustrate Natives thriving and secure in their way of being. Opening Reception Friday, August 2, 2024 4 - 6 p.m. The Gallery is open during the reception. Gallery Hours The Henderson Fine Arts Center Art Gallery is open Monday through Friday, from 10 a.m. to 5 p.m. and during most events in the Henderson Performance Hall. Contact For further information about this exhibit or other Gallery events, contact the&nbsp;Art Gallery&nbsp;at 505-566-3464.
DTSTAMP:20260423T092320
DTSTART:20240802T160000
DTEND:20240830T180000
LOCATION:Henderson Fine Arts Center Gallery
SUMMARY;LANGUAGE=en-us:One Navajo
UID:d30b9cc3c41fbf4a54ee3a4fbaaa8a92@www.sanjuancollege.edu
END:VEVENT
END:VCALENDAR

