BEGIN:VCALENDAR
VERSION:2.0
BEGIN:VEVENT
CATEGORIES:Category,Community Events,Category,Native American Center,Category,Student Events,Location,Farmington Museum, 3041 E. Main St.,featured,Yes
DESCRIPTION:Join us! Guests may bring their chairs. On-site food sales and arts &amp; crafts vendors. More details to come! Date August 23, 2025 Time 11:00 a.m. - 5:00 p.m. Location Farmington Museum, 3041 E. Main St. For more information please contact the Native American Center at 505-566-3321 or NAC@sanjuancollege.edu&nbsp;
DTSTAMP:20260423T123436
DTSTART:20250823T110000
DTEND:20250823T170000
LOCATION:Farmington Museum, 3041 E. Main St.
SUMMARY;LANGUAGE=en-us:2nd Annual SJC Native American Center Navajo Song &amp; Dance
UID:ede47699c8e8ded8197af43e9866aba0@www.sanjuancollege.edu
END:VEVENT
END:VCALENDAR

