BEGIN:VCALENDAR
VERSION:2.0
BEGIN:VEVENT
CATEGORIES:Category,Community Events,Category,Student Events,Location,Learning Commons Plaza,featured,Yes
DESCRIPTION:SJC Students, Time to Celebrate!&nbsp; All SJC Students will receive a SJC Shirt with their Student ID! This is a FREE event filled with  Music Food Prizes Games and more!  Participate in games and activities for entries into a prize drawing! Date Friday, May 8, 2026 Time 1:00 p.m. - 4:00 p.m. Location Learning Commons Plaza
DTSTAMP:20260420T155853
DTSTART:20260508T130000
DTEND:20260508T160000
LOCATION:Learning Commons Plaza
SUMMARY;LANGUAGE=en-us:Spring Bash
UID:2e4e9fa2799fce7ecc0a4c695974d096@www.sanjuancollege.edu
END:VEVENT
END:VCALENDAR

