BEGIN:VCALENDAR
VERSION:2.0
BEGIN:VEVENT
CATEGORIES:Category,Student Events,Location,Graduation Plaza,featured,Yes
DESCRIPTION:Come Explore! Grab some food, play games, and get connected at San Juan College! There will be FREE hot dogs and sodas, and ice cream. There will be over 60 booths including:  Student Clubs and Organizations Various SJC Departments &amp; Programs  Date September 2, 2025 Time 11:00 a.m. - 2:00 p.m. Location Graduation Plaza For more information contact Student Engagement &amp; Campus Life Room 1612, 505-566-3403 or getinvolved@sanjuancollege.edu&nbsp;
DTSTAMP:20260423T092335
DTSTART:20250902T110000
DTEND:20250902T140000
LOCATION:Graduation Plaza
SUMMARY;LANGUAGE=en-us:Fall '25 RUSH
UID:72d937d7f7aaf26c5437017ffac1f23c@www.sanjuancollege.edu
END:VEVENT
END:VCALENDAR

