BEGIN:VCALENDAR
VERSION:2.0
BEGIN:VEVENT
CATEGORIES:Category,Cinematheque,Category,Community Events,Category,Fine and Performing Arts,Category,Student Events,Location,Henderson Fine Arts Center
DESCRIPTION:The true story of Selena, a Texas-born Tejano singer who rose from cult status to performing at the Astrodome, also having chart-topping albums on the Latin music charts. Join us for Selena karaoke at 6:00 PM in the Henderson Fine Arts Lobby! Admissions  General Public: $5  Buy Tickets Date October 12, 2024 Time&nbsp; 7:00pm-9:00pm Location Henderson Fine Arts Center
DTSTAMP:20260423T103852
DTSTART:20241012T190000
DTEND:20241012T210000
LOCATION:Henderson Fine Arts Center
SUMMARY;LANGUAGE=en-us:Selena
UID:ebee2c4d5c4d2b4af57903b55c23578a@www.sanjuancollege.edu
END:VEVENT
END:VCALENDAR

