BEGIN:VCALENDAR
VERSION:2.0
BEGIN:VEVENT
CATEGORIES:Category,Community Events,Category,Employee Events,Category,Student Events,Location,San Juan College Graduation Plaza,featured,Yes
DESCRIPTION:Illuminate the Night Join us at San Juan College Graduation Plaza as we host an evening of Four Corners Balloon Rally fun! Experience student-sponsored booths, carnival games, face painting, and more. This is a Free Event! Date September 25, 2026 Time 5:30pm Location San Juan College Graduation Plaza
DTSTAMP:20260423T062924
DTSTART:20260925T173000
DTEND:20260925T210000
LOCATION:San Juan College Graduation Plaza
SUMMARY;LANGUAGE=en-us:Balloon Glow 25'
UID:2e914cc6bc858be1f6c5ea5c7323afbe@www.sanjuancollege.edu
END:VEVENT
END:VCALENDAR

