BEGIN:VCALENDAR
VERSION:2.0
BEGIN:VEVENT
CATEGORIES:Category,San Juan Symphony,Location,SJC Box Office,featured,Yes
DESCRIPTION:Sounds of the Symphony Call the SJC Box Office 505-566-3430 for your discount. Come celebrate San Juan Symphony Season 40 with us in Farmington. Events in the San Juan Symphony Season    Event Name Event Date/Time Location     Tromba Mundi &amp; Pines of Rome 10/05/2025 3:00pm MST Henderson Fine Arts Center   We are the Music Makers 11/09/2025 3:00pm MST Henderson Fine Arts Center   Mozart &amp; The Romantics 2/22/2026 3:00pm MST Henderson Fine Arts Center   Billy &amp; Rose: Wild West Outlaws 4/12/2026 3:00pm MST Henderson Fine Arts Center    Purchase San Juan Symphony Season 40 - Legacy in Harmony Packages
DTSTAMP:20260423T062628
DTSTART:20251005T150000
DTEND:20251005T170000
LOCATION:SJC Box Office
SUMMARY;LANGUAGE=en-us:San Juan Symphony:40 Legacy in Harmony
UID:7f6f7e7421d8fe09753c7cab80617d99@www.sanjuancollege.edu
END:VEVENT
END:VCALENDAR

