BEGIN:VCALENDAR
VERSION:2.0
BEGIN:VEVENT
CATEGORIES:Category,Student Events,Location,Zoom
DESCRIPTION:Learn the Tools You'll Need to Succeed Canvas enables students to: Connect and communicate with instructors in enrolled courses. Keep track of assignments due and access organized class materials by course. Submit online work in a variety of ways and see teacher feedback. Dates &amp; Times 8/13/24 @ 12:00 pm8/29/24 @ 5:00 pm9/19/24 @ 4:00 pm10/2/24 @ 11:30 am11/4/24 @ 12:30 pm11/21/24 @ 10:00 am Location Via Zoom Meeting ID: 342 380 5571 Passcode: 459907&nbsp; For more information, call 505-566-3378 or email echeverriao@sanjuancollege.edu&nbsp;
DTSTAMP:20260423T062106
DTSTART:20240813T120000
DTEND:20240813T130000
LOCATION:Zoom
SUMMARY;LANGUAGE=en-us:Intro to Canvas
UID:d9f3ecb6fe1d71206bb99462537e1363@www.sanjuancollege.edu
END:VEVENT
END:VCALENDAR

