BEGIN:VCALENDAR
VERSION:2.0
BEGIN:VEVENT
CATEGORIES:Category,Student Events,Location,Student Advising Center
DESCRIPTION:Learn the Tools You'll Need to Succeed Canvas enables students to: Connect and communicate with instructors in enrolled courses. Keep track of assignments due and access organized class materials by course. Submit online work in a variety of ways and see teacher feedback. Dates &amp; Times 8/5/24 @ 11:30 am8/23/24 @ 9:30 am Location Student Advising Center For more information, call 505-566-3378 or email echeverriao@sanjuancollege.edu&nbsp;
DTSTAMP:20260423T135455
DTSTART:20240805T113000
DTEND:20240805T123000
LOCATION:Student Advising Center
SUMMARY;LANGUAGE=en-us:Intro to Canvas
UID:321c18d217f63145f09055e6a1da9ef4@www.sanjuancollege.edu
END:VEVENT
END:VCALENDAR

