BEGIN:VCALENDAR
VERSION:2.0
BEGIN:VEVENT
CATEGORIES:Category,Student Events,Location,Zoom,featured,Yes
DESCRIPTION:Time for Efficiency&nbsp; Managing your time effectively can enable you to: reach your goals, accomplish what is most important, live out your values, and maintain balance. Dates March 28, 2025 Time 11:00 a.m. - 12:00 p.m. Location Via Zoom For more information, call 505-566-3378 or email resource@sanjuancollege.edu&nbsp;
DTSTAMP:20260423T062311
DTSTART:20250328T110000
DTEND:20250328T120000
LOCATION:Zoom
SUMMARY;LANGUAGE=en-us:Time Management
UID:abb826b74d7dff03d2d94ec40eb10543@www.sanjuancollege.edu
END:VEVENT
END:VCALENDAR

