BEGIN:VCALENDAR
VERSION:2.0
BEGIN:VEVENT
CATEGORIES:Category,Student Events,Location,Zoom,featured,Yes
DESCRIPTION:Time for Efficiency&nbsp; Managing your time effectively can enable you to: reach your goals, accomplish what is most important, live out your values, and maintain balance. Dates February 12, 2025 Time 12:00 p.m. - 1:00 p.m. Location Via Zoom For more information, call 505-566-3378 or email resource@sanjuancollege.edu&nbsp;
DTSTAMP:20260423T063017
DTSTART:20250212T120000
DTEND:20250212T130000
LOCATION:Zoom
SUMMARY;LANGUAGE=en-us:Time Management
UID:263bcabaa180084c9f74cf2238381749@www.sanjuancollege.edu
END:VEVENT
END:VCALENDAR

