BEGIN:VCALENDAR
VERSION:2.0
BEGIN:VEVENT
CATEGORIES:Category,Student Events,Location,Zoom
DESCRIPTION:Sharpen Your Skills Whether you are looking to enhance your study skills or get a fresh start with different skills, this workshop will provide student with different study skills strategies to help you easy your studies during college classes. Dates&nbsp; February 28, 2025 Time 11:00 a.m. - 12:00 p.m. Location Via Zoom For more information, call 505-566-3378 or email resource@sanjuancollege.edu&nbsp;
DTSTAMP:20260423T061733
DTSTART:20250228T110000
DTEND:20250228T120000
LOCATION:Zoom
SUMMARY;LANGUAGE=en-us:Study Skills
UID:718783617f964812f25ed66c0ff5d244@www.sanjuancollege.edu
END:VEVENT
END:VCALENDAR

