BEGIN:VCALENDAR
VERSION:2.0
BEGIN:VEVENT
CATEGORIES:Category,Student Events,Location,Zoom,featured,Yes
DESCRIPTION:Beat that Anxiety Don&rsquo;t let anxiety take over your exams. Join the Test Anxiety workshop to learn different strategies and ways to cope with test taking. Date April 30, 2025 Time 11:00 a.m. - 12:00 p.m. Location Via Zoom For more information, call 505-566-3378 or email resource@sanjuancollege.edu&nbsp;
DTSTAMP:20260423T062734
DTSTART:20250430T110000
DTEND:20250430T120000
LOCATION:Zoom
SUMMARY;LANGUAGE=en-us:Test-Taking Strategies
UID:baa37043379bfad4018445f16c73558b@www.sanjuancollege.edu
END:VEVENT
END:VCALENDAR

