BEGIN:VCALENDAR
VERSION:2.0
BEGIN:VEVENT
CATEGORIES:Category,Student Events,Location,Student Advising Center
DESCRIPTION:Beat that Anxiety Don&rsquo;t let anxiety take over your exams. Join the Test Anxiety workshop to learn different strategies and ways to cope with test taking. Date October 25, 2024 Time 10:00 am Location Student Advising Center For more information, call 505-566-3378 or email echeverriao@sanjuancollege.edu&nbsp;
DTSTAMP:20260423T091812
DTSTART:20241125T133000
DTEND:20241125T143000
LOCATION:Student Advising Center
SUMMARY;LANGUAGE=en-us:Test Anxiety
UID:fc046c6fe21309a3b44239847fd9a341@www.sanjuancollege.edu
END:VEVENT
END:VCALENDAR

