BEGIN:VCALENDAR
VERSION:2.0
BEGIN:VEVENT
CATEGORIES:Category,Artists Series,Category,Community Events,Category,Fine and Performing Arts,Category,Student Events,Location,Henderson Fine Arts Center
DESCRIPTION:Artistic director, Jes&uacute;s Mu&ntilde;oz, founded the company in 2010 in Albuquerque, New Mexico with a passion to create visceral, cutting edge Flamenco art that was in his own unique style. The company has formed a physical, visual, and sonic vocabulary that intersects Flamenco with Latin, Jazz and Hip-hop, reflecting the experiences and backgrounds of company artists and audiences. Join us for this special Hispanic Heritage month performance.&nbsp; Admissions  General Public: $25 Student: $10 SJC Employees: $17.50 Senior/Encore: $17.50  Buy Tickets Date October 4, 2024 Time 7:00 pm Location Henderson Fine Arts Center
DTSTAMP:20260423T061912
DTSTART:20241004T190000
DTEND:20241004T210000
LOCATION:Henderson Fine Arts Center
SUMMARY;LANGUAGE=en-us:Jes&uacute;s Mu&ntilde;oz Flamenco
UID:ea9c995204976a9c111fd4c0f61b6b75@www.sanjuancollege.edu
END:VEVENT
END:VCALENDAR

