BEGIN:VCALENDAR
VERSION:2.0
BEGIN:VEVENT
CATEGORIES:Category,Career Center,Category,Student Events,Location,Henderson Rooms 9000,featured,Yes
DESCRIPTION:Career Events Student that have completed the Student Employee Application process are invited to the Student Employee Draft! Meet directly with on campus departments and off campus internship sites that are hiring. Date August 28, 2024 Time 3:00 - 5:00 pm Location Henderson Rooms 9000
DTSTAMP:20260423T092903
DTSTART:20240828T150000
DTEND:20240828T170000
LOCATION:Henderson Rooms 9000
SUMMARY;LANGUAGE=en-us:Student Employee Draft
UID:b89a7c746739e6319ecfa259c14c5c16@www.sanjuancollege.edu
END:VEVENT
END:VCALENDAR

