BEGIN:VCALENDAR
VERSION:2.0
BEGIN:VEVENT
CATEGORIES:Category,Career Center,Category,Student Events,Location,School of Energy,featured,Yes
DESCRIPTION:Resume Assistance &amp; Networking This workshop will cover how to create an effective resume and interview and networking practice to prepare for on campus recruiting events this fall. Date February 7, 2025 Time 9:00 am - 12:00 pm Location School of Energy
DTSTAMP:20260423T094041
DTSTART:20250207T090000
DTEND:20250207T120000
LOCATION:School of Energy
SUMMARY;LANGUAGE=en-us:Career Prep @ The School of Energy
UID:c98ef96c32fc8c7a06128edcfc4a84ca@www.sanjuancollege.edu
END:VEVENT
END:VCALENDAR

