BEGIN:VCALENDAR
VERSION:2.0
BEGIN:VEVENT
CATEGORIES:Category,Student Events,Location,SJC Student Housing,featured,Yes
DESCRIPTION:Party with a Purpose Meningococcal disease causes infection in the lining of the brain, spine or the bloodstream which can be serious and deadly! Even when treated 10-15 people out of 100 may die. Those who survive may suffer disabilities such as hearing loss, brain damage or kidney damage. Vaccines help prevent disease! Date September 4, 2024 Time 1:30 - 3:30 pm Location SJC Student Housing
DTSTAMP:20260423T092516
DTSTART:20240904T133000
DTEND:20240904T153000
LOCATION:SJC Student Housing
SUMMARY;LANGUAGE=en-us:Free Meningitis Vaccines
UID:0b8a19fdd09d62c432f1839361efce98@www.sanjuancollege.edu
END:VEVENT
END:VCALENDAR

