BEGIN:VCALENDAR
VERSION:2.0
BEGIN:VEVENT
CATEGORIES:Category,Student Events,Location,On Campus
DESCRIPTION:Enter to Win! Stop by the various giveaway boxes and enter to win one of three prizes! Drop in:  Your Name Student ID DREAM School  Only one entry per person. Extra entry opportunities will be given in this weeks events. Winners will be announced at 11 a.m. Date October 24, 2025 Time All Day Location On Campus
DTSTAMP:20260423T063104
DTSTART:20251024T000000
DTEND:20251024T235900
LOCATION:On Campus
SUMMARY;LANGUAGE=en-us:Transfer Giveaway Day
UID:5efac9e830fdd91498bffb351e95e3b4@www.sanjuancollege.edu
END:VEVENT
END:VCALENDAR

