BEGIN:VCALENDAR
VERSION:2.0
BEGIN:VEVENT
CATEGORIES:Category,Employee Events,Category,Student Events,Location,All Campus,featured,Yes
DESCRIPTION:Show us where you plan to go! Wear the colors that represent your DREAM school! Faculty and staff, show us where you have been; wear the colors of your alma mater! Date October 22, 2024 Time 8:00 am - 5:00 pm Location All Campus
DTSTAMP:20260423T104154
DTSTART:20241022T080000
DTEND:20241022T170000
LOCATION:All Campus
SUMMARY;LANGUAGE=en-us:Campus Colors Day
UID:09a0b80eb5b8a8847e5af11badea42ca@www.sanjuancollege.edu
END:VEVENT
END:VCALENDAR

