BEGIN:VCALENDAR
VERSION:2.0
BEGIN:VEVENT
CATEGORIES:Category,Student Events,Location,Sun Lounge (above Mary's Kitchen)
DESCRIPTION:It is Your Time to Shine! Join us to:  Research colleges Gather information Meet with representatives from our region's best universities!  Date October 22, 2025 Time 10:00 am - 3:00 pm Location Sun Lounge (above Mary's Kitchen)
DTSTAMP:20260423T093130
DTSTART:20251022T100000
DTEND:20251022T150000
LOCATION:Sun Lounge (above Mary's Kitchen)
SUMMARY;LANGUAGE=en-us:Transfer Fair
UID:0d86ad34e95d676593fad5211b067018@www.sanjuancollege.edu
END:VEVENT
END:VCALENDAR

