BEGIN:VCALENDAR
VERSION:2.0
BEGIN:VEVENT
CATEGORIES:Category,Student Events,Location,Sun's Lounge
DESCRIPTION:Learn and Play! Drop by the Sun's Lounge!&nbsp; Participate in our interactive and informative transfer games, virtual campus tours, financial aid information, and more! Date October 23, 2025 Time 11:00 a.m. - 1:00 p.m. Location Sun's Lounge
DTSTAMP:20260423T063058
DTSTART:20251023T110000
DTEND:20251023T130000
LOCATION:Sun's Lounge
SUMMARY;LANGUAGE=en-us:Interactive Transfer Day
UID:3da8f3514c0763d82c04a8d7b2e6582d@www.sanjuancollege.edu
END:VEVENT
END:VCALENDAR

