BEGIN:VCALENDAR
VERSION:2.0
BEGIN:VEVENT
CATEGORIES:Category,Community Events,Category,One Book One Community,Category,Student Events,Location,Connie Gotsch Theater,featured,Yes
DESCRIPTION:Meet the Author Kali Fajardo-Anstine She will be visiting campus to read from Sabrina &amp; Corina, answer questions from the audience, and do a book signing:  5:30 PM &ndash; 45-minute reading 6:15 PM &ndash; 25-minute Q&amp;A 6:45 PM &ndash; 1-hour signing  Date October 17, 2024 Time 5:30 pm - 7:45 pm Location Connie Gotsch Theater
DTSTAMP:20260423T093038
DTSTART:20241017T173000
DTEND:20241017T194500
LOCATION:Connie Gotsch Theater
SUMMARY;LANGUAGE=en-us:Author Visit
UID:83eec870137da5d0a28a67523902f60e@www.sanjuancollege.edu
END:VEVENT
END:VCALENDAR

