BEGIN:VCALENDAR
VERSION:2.0
BEGIN:VEVENT
CATEGORIES:Category,Community Events,Category,One Book One Community,Category,Student Events,Location,Zoom,featured,Yes
DESCRIPTION:Come Together &amp; Chat Join us on Zoom for an informal discussion of the short stories in our One Book/One Community 2024-2025 selection, Sabrina &amp; Corina, by Kali Fajardo-Anstine. All members of the College community and the general public are welcome! Date November 1, 2024 Time 3:30 pm-4:30 pm Location Zoom Passcode: 124894
DTSTAMP:20260423T063104
DTSTART:20241101T153000
DTEND:20241101T163000
LOCATION:Zoom
SUMMARY;LANGUAGE=en-us:Informal Book Discussion
UID:2c23b92f447592dd52aa3a1d2371850c@www.sanjuancollege.edu
END:VEVENT
END:VCALENDAR

