BEGIN:VCALENDAR
VERSION:2.0
BEGIN:VEVENT
CATEGORIES:Category,Career Center,Category,Student Events,Location,School of Energy Merrion Room,featured,Yes
DESCRIPTION:Attend Walsh Engineering &amp; Production information sessions to learn about career opportunities. Check out current job opportunities @ Walsh Engineering Dates April 24, 2025 Time 12:00 p.m. - 1:00 p.m. Location School of Energy Merrion Rooms For additional information contact Center for Student Careers and Employment at 505-566-3423 or careercenter@sanjuancollege.edu&nbsp;
DTSTAMP:20260423T063104
DTSTART:20250424T120000
DTEND:20250424T130000
LOCATION:School of Energy Merrion Room
SUMMARY;LANGUAGE=en-us:On Campus Recruiting @ The School of Energy
UID:e27400eb0155bc39d9c3f74ebcc26f8e@www.sanjuancollege.edu
END:VEVENT
END:VCALENDAR

