BEGIN:VCALENDAR
VERSION:2.0
BEGIN:VEVENT
CATEGORIES:Category,Career Center,Category,Student Events,Location,Suns Room (near Mary's Kitchen),featured,Yes
DESCRIPTION:Drop by and get your resume reviewed by a Certified Resume Writer. Date October 15, 2024 Time 9:00 am - 12:00 pm Location Suns Room (near Mary's Kitchen)
DTSTAMP:20260423T062433
DTSTART:20241015T090000
DTEND:20241015T120000
LOCATION:Suns Room (near Mary's Kitchen)
SUMMARY;LANGUAGE=en-us:Bagels &amp; Resumes
UID:8bf293435f79836dd3bbe086d8324848@www.sanjuancollege.edu
END:VEVENT
END:VCALENDAR

