BEGIN:VCALENDAR
VERSION:2.0
BEGIN:VEVENT
CATEGORIES:Category,Cinematheque,Category,Community Events,Category,Student Events,Location,Henderson Fine Arts Center,featured,Yes
DESCRIPTION:In this 1980s sci-fi classic, small-town California teen Marty McFly (Michael J. Fox) is thrown back into the '50s when an experiment by his eccentric scientist friend Doc Brown (Christopher Lloyd) goes awry. Traveling through time in a modified DeLorean car, Marty encounters young versions of his parents (Crispin Glover, Lea Thompson), and must make sure that they fall in love or he'll cease to exist. Even more dauntingly, Marty has to return to his own time and save the life of Doc Brown. Admissions  General Public: $5  Buy Tickets Date January 11, 2025 Time&nbsp; 7:00pm Location Henderson Fine Arts Center
DTSTAMP:20260423T193620
DTSTART:20250111T190000
DTEND:20250111T210000
LOCATION:Henderson Fine Arts Center
SUMMARY;LANGUAGE=en-us:Back to the Future
UID:0dc50eed3b35d3dc3d847da5a8782e52@www.sanjuancollege.edu
END:VEVENT
END:VCALENDAR

