BEGIN:VCALENDAR
VERSION:2.0
BEGIN:VEVENT
CATEGORIES:Category,Cinematheque,Category,Community Events,Category,Student Events,Location,Henderson Fine Arts Center,featured,Yes
DESCRIPTION:Rachel Chu is happy to accompany her longtime boyfriend, Nick, to his best friend's wedding in Singapore. She's also surprised to learn that Nick's family is extremely wealthy and he's considered one of the country's most eligible bachelors. Thrust into the spotlight, Rachel must now contend with jealous socialites, quirky relatives and something far, far worse -- Nick's disapproving mother. Admissions  General Public: $5  Buy Tickets Date February 1, 2025 Time&nbsp; 7:00pm Location Henderson Fine Arts Center
DTSTAMP:20260423T093038
DTSTART:20250201T190000
DTEND:20250201T210000
LOCATION:Henderson Fine Arts Center
SUMMARY;LANGUAGE=en-us:Crazy Rich Asians
UID:0d5da42b4148462075adda56c1b181ec@www.sanjuancollege.edu
END:VEVENT
END:VCALENDAR

