BEGIN:VCALENDAR
VERSION:2.0
BEGIN:VEVENT
CATEGORIES:Category,Community Events,Category,Student Events,Location,Blueprint Studio 5150 College Blvd.,featured,Yes
DESCRIPTION:Claim Your Seat-Limited Availability! FREE of charge for all SJC students. Priority is given to all San Juan College students before seats open to staff and employees. Join us for a night led by Blueprint Art Studio for a night of relaxation and painting fun amidst the hectic semester. Date October 1, 2025 Time 5:00 pm&nbsp; Location Blueprint Art Studio-5150 College Blvd.&nbsp;
DTSTAMP:20260423T063057
DTSTART:20251001T170000
DTEND:20251001T190000
LOCATION:Blueprint Studio 5150 College Blvd.
SUMMARY;LANGUAGE=en-us:Sana Sana Painting with Blueprint
UID:1aca0468a5934a9ff84dd8423b852fa5@www.sanjuancollege.edu
END:VEVENT
END:VCALENDAR

