BEGIN:VCALENDAR
VERSION:2.0
BEGIN:VEVENT
CATEGORIES:Category,Community Events,Category,Student Events,Location,HHPC Room 55208,featured,Yes
DESCRIPTION:San Juan College Students and Employees are invited to join us for Latin Rhythm and Zumba fun! Facilitated by Ryan and Vermil Date Every Monday: September 15 - October 13 Time 12:00 p.m. Location HHPC Room 552085
DTSTAMP:20260423T135321
DTSTART:20250915T120000
DTEND:20250915T140000
LOCATION:HHPC Room 55208
SUMMARY;LANGUAGE=en-us:Zumba Dance Lessons
UID:a4c5aea54d4134b3b4026928bd02f62c@www.sanjuancollege.edu
END:VEVENT
END:VCALENDAR

