BEGIN:VCALENDAR
VERSION:2.0
BEGIN:VEVENT
CATEGORIES:Category,Community Events,Category,Student Events,Location,HHPC Room 55208,featured,Yes
DESCRIPTION:Let Carrasco Dance Productions guide you to an adventure filled with different Latin dancing styles Date Every Friday: September 19 - October 13 Time 11:30 a.m. Location HHPC Room 552085
DTSTAMP:20260423T061906
DTSTART:20250919T113000
DTEND:20250919T133000
LOCATION:HHPC Room 55208
SUMMARY;LANGUAGE=en-us:Latin Rhythm Dance Lessons 
UID:3dc9cdba16c611da99f7a6540fe914db@www.sanjuancollege.edu
END:VEVENT
END:VCALENDAR

