BEGIN:VCALENDAR
VERSION:2.0
BEGIN:VEVENT
CATEGORIES:Category,Community Events,Category,Student Events,Location,Mary's Kitchen,featured,Yes
DESCRIPTION:National Taco Day, celebrated annually is a delicious occasion to honor one of Mexico&rsquo;s most iconic dishes. Tacos, with their versatile fillings and vibrant flavors, have captured the hearts (and taste buds) of people all around the world.&nbsp; Join us! Date October 7, 2025 Time 11:00 a.m. - 3:00 p.m. Location Mary's Kitchen
DTSTAMP:20260423T104046
DTSTART:20251007T110000
DTEND:20251007T150000
LOCATION:Mary's Kitchen
SUMMARY;LANGUAGE=en-us:National Taco Day
UID:ea16cc40638c7520b27f034ee6c3bb00@www.sanjuancollege.edu
END:VEVENT
END:VCALENDAR

