BEGIN:VCALENDAR
VERSION:2.0
BEGIN:VEVENT
CATEGORIES:Category,Community Events,Category,Student Events,Location,East Classroom Complex Upper: Room 1219,featured,Yes
DESCRIPTION:Dr. Jenni Trujillo brings 25 years of experience as a bilingual and multicultural educator, with a career spanning roles from classroom teacher to English Learner/Bilingual Director, college professor, and author. Her deep-seated passion for languages is rooted in her upbringing in an immigrant, Spanish-speaking household. In her upcoming talk, Dr. Trujillo will explore the transformative power of setting intentions and offer insights on how to navigate and shape your personal, academic and professional journey. Date September 18, 2024 Time 11:00am Location East Classroom Complex Upper: Room 1219
DTSTAMP:20260423T104154
DTSTART:20240918T110000
DTEND:20240918T120000
LOCATION:East Classroom Complex Upper: Room 1219
SUMMARY;LANGUAGE=en-us:The Power of Setting Intentions
UID:16487599e038cd5e1e4efed032b71b2a@www.sanjuancollege.edu
END:VEVENT
END:VCALENDAR

