BEGIN:VCALENDAR
VERSION:2.0
BEGIN:VEVENT
CATEGORIES:Category,Career Center,Category,Student Events,Location,School of Trades & Technology,featured,Yes
DESCRIPTION:Automotive and diesel students and graduates are invited to come meet with employers to discover employment opportunities! Date October 23, 2025 Time 10:00 am - 2:00 pm Location School of Trades &amp; Technology For more information connect with Student Careers and Employment at careercenter@sanjuancollege.edu or 505-566-3423.
DTSTAMP:20260423T103739
DTSTART:20251023T100000
DTEND:20251023T140000
LOCATION:School of Trades &amp; Technology
SUMMARY;LANGUAGE=en-us:Auto &amp; Diesel Day
UID:20dcba440fd8bc04cbb97edbfc7912a5@www.sanjuancollege.edu
END:VEVENT
END:VCALENDAR

