BEGIN:VCALENDAR
VERSION:2.0
BEGIN:VEVENT
CATEGORIES:Category,Career Center,Category,Student Events,Location,Suns Room (near Mary's Kitchen),featured,Yes
DESCRIPTION:Practice Your Elevator Pitch Learn how to introduce yourself to potential employers to highlight your skills and goals. The Art of Small Talk Learn what small talk is and how to effectively engage in conversation. Gain Confidence Practice networking skills to increase your confidence in interactions with employers and professionals.&nbsp; Date April 10, 2025 Time 3:30 pm&nbsp; Location Suns Room (near Mary's Kitchen) For more information contact Center for Student Careers and Employment careercenter@sanjuancollege.edu or 505-566-3423
DTSTAMP:20260423T062455
DTSTART:20250410T153000
DTEND:20250410T163000
LOCATION:Suns Room (near Mary's Kitchen)
SUMMARY;LANGUAGE=en-us:Networking Workshop!
UID:60fd74667bc096b3b11f58840c764909@www.sanjuancollege.edu
END:VEVENT
END:VCALENDAR

